Workbook

Sheet Dados do Exame
C2: Dados do Paciente
B3: Nome do Paciente | C3: Rafael Costa de Medina Coeli
B4: Prontuário | C4: 123456
B5: Sexo | C5: Masculino
B6: Data de Nascimento: | C6: 36872
B7: Idade | C7: =(YEAR(NOW())-YEAR(C6))&" anos" -> 26 anos
B8: História Clínica | C8: Tabagista

Sheet Escarro
B3: Universidade Federal do Rio de Janeiro HOSPITAL UNIVERSITÁRIO CLEMENTINO FRAGA FILHO | G3: Serviço de Patologia Clínica SPC | K3: Universidade Federal do Rio de Janeiro HOSPITAL UNIVERSITÁRIO CLEMENTINO FRAGA FILHO | P3: Serviço de Patologia Clínica SPC
B6: Paciente: | C6: ='Dados do Exame'!C3 -> Rafael Costa de Medina Coeli | G6: Prontuário: | H6: ='Dados do Exame'!C4 -> 123456 | K6: Paciente: | L6: =C6 -> Rafael Costa de Medina Coeli | P6: Prontuário: | Q6: =H6 -> 123456
B7: Indicação Clínica: | D7: ='Dados do Exame'!C8 -> Tabagista | G7: Médico: | H7: ='Dados do Exame'!#REF! -> #REF! | K7: Indicação Clínica: | M7: =D7 -> Tabagista | P7: Médico: | Q7: =H7 -> #REF!
G8: Data: | H8: =TODAY() -> 46038 | P8: Data: | Q8: =TODAY() -> 46038
G9: Localização: | H9: Pneumo 221 | P9: Localização: | Q9: =H9 -> Pneumo 221
B10: Material: | K10: Material:
B11: [ ] Sangue | D11: [ ] Fezes | F11: [ ] Outros: Especificar | K11: =B11 -> [ ] Sangue | M11: =D11 -> [ ] Fezes | O11: =F11 -> [ ] Outros: Especificar
B12: [ ] Urina (amostra) | D12: [x] Escarro | K12: =B12 -> [ ] Urina (amostra) | M12: =D12 -> [x] Escarro
B13: [ ] Urina 24 horas | D13: [ ] Esperma | K13: =B13 -> [ ] Urina 24 horas | M13: =D13 -> [ ] Esperma
B15: Exames Solicitados | K15: Exames Solicitados
B16: BAAR, Xpert MTB/RIF e Cultura para Micobactérias | K16: Exame Direto e Cultura para Fungos
B40: Obs: Quando for solicitar Grupo Sanguíneo, Fator Rh, Coombs direto e indireto, favor fazer requisição específica para o Banco de Sangue (Hemoterapia). As drogas terapêuticas para a Medicina Nuclear. | K40: Obs: Quando for solicitar Grupo Sanguíneo, Fator Rh, Coombs direto e indireto, favor fazer requisição específica para o Banco de Sangue (Hemoterapia). As drogas terapêuticas para a Medicina Nuclear.
B42: DMD 563 / Ago-06 | D42: Informações Sobre Marcação e Coleta – Vide Verso | K42: DMD 563 / Ago-06 | M42: Informações Sobre Marcação e Coleta – Vide Verso

Sheet Sangue
B3: Universidade Federal do Rio de Janeiro HOSPITAL UNIVERSITÁRIO CLEMENTINO FRAGA FILHO | G3: Serviço de Patologia Clínica SPC
B6: Paciente: | C6: ='Dados do Exame'!C3 -> Rafael Costa de Medina Coeli | G6: Prontuário: | H6: ='Dados do Exame'!C4 -> 123456
B7: Indicação Clínica: | D7: ='Dados do Exame'!C8 -> Tabagista | G7: Médico: | H7: ='Dados do Exame'!#REF! -> #REF!
G8: Data: | H8: =TODAY() -> 46038
G9: Localização: | H9: Pneumo 221
B10: Material:
B11: [x] Sangue | D11: [ ] Fezes | F11: [ ] Outros: Especificar
B12: [ ] Urina (amostra) | D12: [ ] Escarro | G12: ='Dados do Exame'!#REF! -> #REF!
B13: [ ] Urina 24 horas | D13: [ ] Esperma
B15: Exames Solicitados
B16: Hemograma completo Sódio, Potássio, Uréia, Creatinina Glicose, Hemoglobina glicada Colesterol total e frações, triglicerídeos TGO, TGP, FA, GGT FAN, ANCA, Fator reumatóide, Anti-CCP
B40: Obs: Quando for solicitar Grupo Sanguíneo, Fator Rh, Coombs direto e indireto, favor fazer requisição específica para o Banco de Sangue (Hemoterapia). As drogas terapêuticas para a Medicina Nuclear.
B42: DMD 563 / Ago-06 | D42: Informações Sobre Marcação e Coleta – Vide Verso

Sheet TC de Tórax
B2: UNIVERSIDADE FEDERAL DO RIO DE JANEIRO | H2: ='Dados do Exame'!C3 -> Rafael Costa de Medina Coeli
B3: #VALUE! | C3: HOSPITAL UNIVERSITÁRIO CLEMENTINO FRAGA FILHO
H4: ='Dados do Exame'!C4 -> 123456
H6: ='Dados do Exame'!C6 -> 36872
B7: Pedido a | C7: SME - Radiologia
B9: ____________________________________________ | H9: LOCALIZAÇÃO DO PACIENTE
B10: Exames Pedidos | D10: (Já realizados)
B13: TC de Tórax | I13: Emergência
H14: x | I14: Ambulatório: ____________ Quad.: _____
I15: CTI
I16: Posto: _______ Enf.: _______ Leito: ____
B19: MOTIVO DO EXAME ( Sumário Clínico e Diagnóstico Provisório):
B21: ='Dados do Exame'!C8 -> Tabagista
B26: MEDICAÇÃO EM USO:
B32: PRECAUÇÕES: | H32: PREPARO DO PACIENTE:
B38: Pedido em | D38: Assinatura e Carimbo do Médico Requisitante | J38: Marcado para
B39: ____/____/____ | J39: ____/____/____ Hora: ___:___
B42: LAUDO:
B53: ATENÇÃO: É obrigatório trazer este formulário no dia do exame.
B56: DMD 007 - Jul / 09

Sheet Prova de Função Pulmonar
B2: UNIVERSIDADE FEDERAL DO RIO DE JANEIRO | H2: ='Dados do Exame'!C3 -> Rafael Costa de Medina Coeli
B3: #VALUE! | C3: HOSPITAL UNIVERSITÁRIO CLEMENTINO FRAGA FILHO
H4: ='Dados do Exame'!C4 -> 123456
H6: ='Dados do Exame'!C6 -> 36872
B7: Pedido a | C7: SME - Pneumologia
B9: ____________________________________________ | H9: LOCALIZAÇÃO DO PACIENTE
B10: Exames Pedidos | D10: (Já realizados)
B13: Prova de Função Pulmonar | I13: Emergência
H14: x | I14: Ambulatório: ____________ Quad.: _____
I15: CTI
I16: Posto: _______ Enf.: _______ Leito: ____
B19: MOTIVO DO EXAME ( Sumário Clínico e Diagnóstico Provisório):
B21: ='Dados do Exame'!C8 -> Tabagista
B26: MEDICAÇÃO EM USO:
B32: PRECAUÇÕES: | H32: PREPARO DO PACIENTE:
B38: Pedido em | D38: Assinatura e Carimbo do Médico Requisitante | J38: Marcado para
B39: ____/____/____ | J39: ____/____/____ Hora: ___:___
B42: LAUDO:
B53: ATENÇÃO: É obrigatório trazer este formulário no dia do exame.
B56: DMD 007 - Jul / 09

Sheet Ecocardiograma
B2: UNIVERSIDADE FEDERAL DO RIO DE JANEIRO | H2: ='Dados do Exame'!C3 -> Rafael Costa de Medina Coeli
B3: #VALUE! | C3: HOSPITAL UNIVERSITÁRIO CLEMENTINO FRAGA FILHO
H4: ='Dados do Exame'!C4 -> 123456
H6: ='Dados do Exame'!C6 -> 36872
B7: Pedido a | C7: SME - Cardiologia
B9: ____________________________________________ | H9: LOCALIZAÇÃO DO PACIENTE
B10: Exames Pedidos | D10: (Já realizados)
B13: Ecocardiograma transtorácico | I13: Emergência
H14: x | I14: Ambulatório: ____________ Quad.: _____
I15: CTI
I16: Posto: _______ Enf.: _______ Leito: ____
B19: MOTIVO DO EXAME ( Sumário Clínico e Diagnóstico Provisório):
B21: ='Dados do Exame'!C8 -> Tabagista
B26: MEDICAÇÃO EM USO:
B32: PRECAUÇÕES: | H32: PREPARO DO PACIENTE:
B38: Pedido em | D38: Assinatura e Carimbo do Médico Requisitante | J38: Marcado para
B39: ____/____/____ | J39: ____/____/____ Hora: ___:___
B42: LAUDO:
B53: ATENÇÃO: É obrigatório trazer este formulário no dia do exame.
B56: DMD 007 - Jul / 09

Sheet DMD - Abertura de Prontuário
B2: UNIVERSIDADE FEDERAL DO RIO DE JANEIRO | G2: ='Dados do Exame'!C3 -> Rafael Costa de Medina Coeli
B3: #VALUE! | C3: HOSPITAL UNIVERSITÁRIO CLEMENTINO FRAGA FILHO
G4: ='Dados do Exame'!C4 -> 123456
B6: OBSERVAÇÃO CLÍNICA E EXAME FÍSICO | G6: ='Dados do Exame'!C6 -> 36872
B7: QUEIXA(S) PRINCIPAL(IS)
B10: HISTÓRIA DA DOENÇA ATUAL
B31: ANAMNESE DIRIGIDA: HISTÓRIA PATOLÓGICA PREGRESSA - HISTÓRIA FISIOLÓGICA - HISTÓRIA FAMILIAR
B51: HISTÓRIA DA PESSOA
B62: DMD - 550 / JULHO 09
B65: PESO | E65: ALTURA | H65: PA | I65: DEITADO | J65: SENTADO | K65: EM PÉ
H66: BD
B67: TEMPERATURA AX. | E67: RESPIRAÇÃO | G67: PULSO
H68: BE
B69: EXAME FÍSICO GERAL E SEGMENTAR
B116: OBSERVAÇÕES
B124: DATA | E124: OBSERVAÇÃO FEITA POR | I124: SUPERVISÃO
